BEGIN:VCALENDAR
VERSION:2.0
PRODID:-//wp-events-plugin.com//7.2.3.1//EN
TZID:America/New_York
X-WR-TIMEZONE:America/New_York
BEGIN:VEVENT
UID:1@wnuz.org
DTSTART;TZID=America/New_York:20251231T013000
DTEND;TZID=America/New_York:20260101T020000
DTSTAMP:20251112T093300Z
URL:https://wnuz.org/events/lanchester-nuz-years-eve-countdown/
SUMMARY:LanChester NUZ Year's Eve Countdown
DESCRIPTION:Join WNUZ as we count down to 2026 live on the air.  During th
 e live broadcast listeners may offered opportunities to win prizes or take
  part in the live broadcast. For these reasons\, tickets will be required 
 in order to participate in the broadcast event. Have your tickets nearby w
 hen you tune in.\n\n&nbsp\;\n\nTICKETS BECOME AVAILABLE ON NOVEMBER 17\, 2
 0258 at 2:30 A.M. - NO CHARGE FOR TICKETS\n\nYOU MUST BE A REGISTERED WNUZ
 .org MEMBER TO ACQUIRE TICKETS FOR THIS OR ANY EVENT THOUGH THIS WEBSITE.\
 n\nREGISTER HERE NOW - Opens in new tab or window so you can come back her
 e when you're done registering.
ATTACH;FMTTYPE=image/jpeg:https://i0.wp.com/wnuz.org/wp-content/uploads/20
 25/07/lcn0101470001530012splashpunch.jpg?fit=1128%2C528&ssl=1
CATEGORIES:General Admission - Entire Community
LOCATION:#_LOCATIONNAME\, #_LOCATIONFULLLINE\, #_LOCATIONCOUNTRY
X-APPLE-STRUCTURED-LOCATION;VALUE=URI;X-ADDRESS=#_LOCATIONFULLLINE\, #_LOCA
 TIONCOUNTRY;X-APPLE-RADIUS=100;X-TITLE=#_LOCATIONNAME:geo:0,0
END:VEVENT
BEGIN:VTIMEZONE
TZID:America/New_York
X-LIC-LOCATION:America/New_York
BEGIN:STANDARD
DTSTART:20251102T010000
TZOFFSETFROM:-0400
TZOFFSETTO:-0500
TZNAME:EST
END:STANDARD
END:VTIMEZONE
END:VCALENDAR