BEGIN:VCALENDAR
VERSION:2.0
PRODID:-//wp-events-plugin.com//7.2.3.1//EN
TZID:America/New_York
X-WR-TIMEZONE:America/New_York
BEGIN:VEVENT
UID:5@wnuz.org
DTSTART;TZID=America/New_York:20251004T093000
DTEND;TZID=America/New_York:20260531T163000
DTSTAMP:20260215T225704Z
URL:https://wnuz.org/events/cropsey-wyeth-and-the-american-landscape-tradi
 tion/
SUMMARY:Cropsey\, Wyeth\, and the American Landscape Tradition
DESCRIPTION:(Ongoing): Art exhibition at the Brandywine Museum of Art\, ru
 nning daily through May 31\, 2026\n\n-Beginning April 1\, 2026\, the Bran
 dywine Museum of Art is open Wednesday through Monday from 9:30 a.m. to 
 4:30 p.m.\, and closed on Tuesdays. During the holiday season (Nov–Jan)\
 , the museum is open daily from 9:30 a.m. to 5 p.m.\, but closes on Thanks
 giving and Christmas.\n\n&nbsp\;\n\nMore Information At:  https://www.bra
 ndywine.org/\n\n&nbsp\;
END:VEVENT
BEGIN:VTIMEZONE
TZID:America/New_York
X-LIC-LOCATION:America/New_York
BEGIN:DAYLIGHT
DTSTART:20250309T030000
TZOFFSETFROM:-0500
TZOFFSETTO:-0400
TZNAME:EDT
END:DAYLIGHT
BEGIN:STANDARD
DTSTART:20251102T010000
TZOFFSETFROM:-0400
TZOFFSETTO:-0500
TZNAME:EST
END:STANDARD
BEGIN:DAYLIGHT
DTSTART:20260308T030000
TZOFFSETFROM:-0500
TZOFFSETTO:-0400
TZNAME:EDT
END:DAYLIGHT
END:VTIMEZONE
END:VCALENDAR